BEGIN:VCALENDAR
VERSION:2.0
PRODID:-//UMR Ressources - ECPv6.2.1//NONSGML v1.0//EN
CALSCALE:GREGORIAN
METHOD:PUBLISH
X-WR-CALNAME:UMR Ressources
X-ORIGINAL-URL:https://www.umr-ressources.fr
X-WR-CALDESC:évènements pour UMR Ressources
REFRESH-INTERVAL;VALUE=DURATION:PT1H
X-Robots-Tag:noindex
X-PUBLISHED-TTL:PT1H
BEGIN:VTIMEZONE
TZID:Europe/Paris
BEGIN:DAYLIGHT
TZOFFSETFROM:+0100
TZOFFSETTO:+0200
TZNAME:CEST
DTSTART:20260329T010000
END:DAYLIGHT
BEGIN:STANDARD
TZOFFSETFROM:+0200
TZOFFSETTO:+0100
TZNAME:CET
DTSTART:20261025T010000
END:STANDARD
END:VTIMEZONE
BEGIN:VEVENT
DTSTART;TZID=Europe/Paris:20260630T173000
DTEND;TZID=Europe/Paris:20260630T193000
DTSTAMP:20260425T021646
CREATED:20260129T115538Z
LAST-MODIFIED:20260129T115538Z
UID:3898-1782840600-1782847800@www.umr-ressources.fr
SUMMARY:Assemblée générale du laboratoire Ressources
DESCRIPTION:
URL:https://www.umr-ressources.fr/event/assemblee-generale-du-laboratoire-ressources/
END:VEVENT
END:VCALENDAR